BEGIN:VCALENDAR
VERSION:2.0
PRODID:-//Southend &amp; Westcliff Hebrew Congregation - ECPv6.15.20//NONSGML v1.0//EN
CALSCALE:GREGORIAN
METHOD:PUBLISH
X-WR-CALNAME:Southend &amp; Westcliff Hebrew Congregation
X-ORIGINAL-URL:https://swhc.org.uk
X-WR-CALDESC:Events for Southend &amp; Westcliff Hebrew Congregation
REFRESH-INTERVAL;VALUE=DURATION:PT1H
X-Robots-Tag:noindex
X-PUBLISHED-TTL:PT1H
BEGIN:VTIMEZONE
TZID:Europe/London
BEGIN:DAYLIGHT
TZOFFSETFROM:+0000
TZOFFSETTO:+0100
TZNAME:BST
DTSTART:20220327T010000
END:DAYLIGHT
BEGIN:STANDARD
TZOFFSETFROM:+0100
TZOFFSETTO:+0000
TZNAME:GMT
DTSTART:20221030T010000
END:STANDARD
BEGIN:DAYLIGHT
TZOFFSETFROM:+0000
TZOFFSETTO:+0100
TZNAME:BST
DTSTART:20230326T010000
END:DAYLIGHT
BEGIN:STANDARD
TZOFFSETFROM:+0100
TZOFFSETTO:+0000
TZNAME:GMT
DTSTART:20231029T010000
END:STANDARD
BEGIN:DAYLIGHT
TZOFFSETFROM:+0000
TZOFFSETTO:+0100
TZNAME:BST
DTSTART:20240331T010000
END:DAYLIGHT
BEGIN:STANDARD
TZOFFSETFROM:+0100
TZOFFSETTO:+0000
TZNAME:GMT
DTSTART:20241027T010000
END:STANDARD
END:VTIMEZONE
BEGIN:VEVENT
DTSTART;TZID=Europe/London:20230923T093000
DTEND;TZID=Europe/London:20230923T093000
DTSTAMP:20260420T195830
CREATED:20230917T200931Z
LAST-MODIFIED:20230917T220724Z
UID:24661-1695461400-1695461400@swhc.org.uk
SUMMARY:Audrey Braden & Tony Dix 80th Birthday Kiddush
DESCRIPTION:
URL:https://swhc.org.uk/event/audrey-braden-tony-dix-80th-birthday-kiddush/
CATEGORIES:Kiddush
END:VEVENT
BEGIN:VEVENT
DTSTART;TZID=Europe/London:20230923T194000
DTEND;TZID=Europe/London:20230923T194000
DTSTAMP:20260420T195830
CREATED:20230917T200931Z
LAST-MODIFIED:20230917T220815Z
UID:24662-1695498000-1695498000@swhc.org.uk
SUMMARY:Shabbat Ends
DESCRIPTION:Shabbat Ends\nSouthend
URL:https://swhc.org.uk/event/shabbat-ends/
LOCATION:Southend & Westcliff
CATEGORIES:Shabbat
END:VEVENT
END:VCALENDAR