BEGIN:VCALENDAR
VERSION:2.0
PRODID:-//Southend &amp; Westcliff Hebrew Congregation - ECPv6.15.20//NONSGML v1.0//EN
CALSCALE:GREGORIAN
METHOD:PUBLISH
X-WR-CALNAME:Southend &amp; Westcliff Hebrew Congregation
X-ORIGINAL-URL:https://swhc.org.uk
X-WR-CALDESC:Events for Southend &amp; Westcliff Hebrew Congregation
REFRESH-INTERVAL;VALUE=DURATION:PT1H
X-Robots-Tag:noindex
X-PUBLISHED-TTL:PT1H
BEGIN:VTIMEZONE
TZID:Europe/London
BEGIN:DAYLIGHT
TZOFFSETFROM:+0000
TZOFFSETTO:+0100
TZNAME:BST
DTSTART:20220327T010000
END:DAYLIGHT
BEGIN:STANDARD
TZOFFSETFROM:+0100
TZOFFSETTO:+0000
TZNAME:GMT
DTSTART:20221030T010000
END:STANDARD
BEGIN:DAYLIGHT
TZOFFSETFROM:+0000
TZOFFSETTO:+0100
TZNAME:BST
DTSTART:20230326T010000
END:DAYLIGHT
BEGIN:STANDARD
TZOFFSETFROM:+0100
TZOFFSETTO:+0000
TZNAME:GMT
DTSTART:20231029T010000
END:STANDARD
BEGIN:DAYLIGHT
TZOFFSETFROM:+0000
TZOFFSETTO:+0100
TZNAME:BST
DTSTART:20240331T010000
END:DAYLIGHT
BEGIN:STANDARD
TZOFFSETFROM:+0100
TZOFFSETTO:+0000
TZNAME:GMT
DTSTART:20241027T010000
END:STANDARD
END:VTIMEZONE
BEGIN:VEVENT
DTSTART;VALUE=DATE:20230925
DTEND;VALUE=DATE:20230926
DTSTAMP:20260420T195827
CREATED:20230917T200931Z
LAST-MODIFIED:20230917T220941Z
UID:24664-1695600000-1695686399@swhc.org.uk
SUMMARY:Friendship Club CLOSED
DESCRIPTION:Friendship Club Closed (Yom Kippur)
URL:https://swhc.org.uk/event/friendship-club-closed-2/
CATEGORIES:Community
END:VEVENT
BEGIN:VEVENT
DTSTART;TZID=Europe/London:20230925T090000
DTEND;TZID=Europe/London:20230925T193500
DTSTAMP:20260420T195827
CREATED:20230917T200931Z
LAST-MODIFIED:20230917T221056Z
UID:24665-1695632400-1695670500@swhc.org.uk
SUMMARY:Yom Kippur
DESCRIPTION:Yom Kippur / Toddlers & Children’s  Service (See Timetable)\nService Begins 9.00am\nService Finishes 7.35 pm
URL:https://swhc.org.uk/event/yom-kippur/
LOCATION:Southend & Westcliff Hebrew Congregation\, Finchley Road\, Westcliff-on-Sea\, Essex\, SS0 8AD\, United Kingdom
CATEGORIES:Festival
END:VEVENT
END:VCALENDAR