BEGIN:VCALENDAR
VERSION:2.0
PRODID:-//Southend &amp; Westcliff Hebrew Congregation - ECPv6.15.20//NONSGML v1.0//EN
CALSCALE:GREGORIAN
METHOD:PUBLISH
X-ORIGINAL-URL:https://swhc.org.uk
X-WR-CALDESC:Events for Southend &amp; Westcliff Hebrew Congregation
REFRESH-INTERVAL;VALUE=DURATION:PT1H
X-Robots-Tag:noindex
X-PUBLISHED-TTL:PT1H
BEGIN:VTIMEZONE
TZID:Europe/London
BEGIN:DAYLIGHT
TZOFFSETFROM:+0000
TZOFFSETTO:+0100
TZNAME:BST
DTSTART:20220327T010000
END:DAYLIGHT
BEGIN:STANDARD
TZOFFSETFROM:+0100
TZOFFSETTO:+0000
TZNAME:GMT
DTSTART:20221030T010000
END:STANDARD
BEGIN:DAYLIGHT
TZOFFSETFROM:+0000
TZOFFSETTO:+0100
TZNAME:BST
DTSTART:20230326T010000
END:DAYLIGHT
BEGIN:STANDARD
TZOFFSETFROM:+0100
TZOFFSETTO:+0000
TZNAME:GMT
DTSTART:20231029T010000
END:STANDARD
BEGIN:DAYLIGHT
TZOFFSETFROM:+0000
TZOFFSETTO:+0100
TZNAME:BST
DTSTART:20240331T010000
END:DAYLIGHT
BEGIN:STANDARD
TZOFFSETFROM:+0100
TZOFFSETTO:+0000
TZNAME:GMT
DTSTART:20241027T010000
END:STANDARD
END:VTIMEZONE
BEGIN:VEVENT
DTSTART;TZID=Europe/London:20231001T093000
DTEND;TZID=Europe/London:20231001T093000
DTSTAMP:20260420T182622
CREATED:20230917T200932Z
LAST-MODIFIED:20230927T215703Z
UID:24674-1696152600-1696152600@swhc.org.uk
SUMMARY:Kiddush Brunch in the Succah
DESCRIPTION:Kiddush Brunch under the branches\nJoin us in doing a Mitzvah / Refreshments and a chat.
URL:https://swhc.org.uk/event/kiddush-brunch-in-the-succah/
CATEGORIES:Kiddush
ATTACH;FMTTYPE=image/jpeg:https://swhc.org.uk/wp-content/uploads/2023/09/Brunch-Under-The-Branches.jpg
END:VEVENT
BEGIN:VEVENT
DTSTART;TZID=Europe/London:20231001T093000
DTEND;TZID=Europe/London:20231001T192100
DTSTAMP:20260420T182622
CREATED:20230917T200932Z
LAST-MODIFIED:20230917T221731Z
UID:24675-1696152600-1696188060@swhc.org.uk
SUMMARY:Succot Second Day
DESCRIPTION:Succot Continues service 9.30 am\nKiddush in the Succah after each service
URL:https://swhc.org.uk/event/succot-second-day/
LOCATION:Southend & Westcliff
CATEGORIES:Festival
END:VEVENT
END:VCALENDAR