BEGIN:VCALENDAR
VERSION:2.0
PRODID:-//Southend &amp; Westcliff Hebrew Congregation - ECPv6.15.20//NONSGML v1.0//EN
CALSCALE:GREGORIAN
METHOD:PUBLISH
X-ORIGINAL-URL:https://swhc.org.uk
X-WR-CALDESC:Events for Southend &amp; Westcliff Hebrew Congregation
REFRESH-INTERVAL;VALUE=DURATION:PT1H
X-Robots-Tag:noindex
X-PUBLISHED-TTL:PT1H
BEGIN:VTIMEZONE
TZID:Europe/London
BEGIN:DAYLIGHT
TZOFFSETFROM:+0000
TZOFFSETTO:+0100
TZNAME:BST
DTSTART:20220327T010000
END:DAYLIGHT
BEGIN:STANDARD
TZOFFSETFROM:+0100
TZOFFSETTO:+0000
TZNAME:GMT
DTSTART:20221030T010000
END:STANDARD
BEGIN:DAYLIGHT
TZOFFSETFROM:+0000
TZOFFSETTO:+0100
TZNAME:BST
DTSTART:20230326T010000
END:DAYLIGHT
BEGIN:STANDARD
TZOFFSETFROM:+0100
TZOFFSETTO:+0000
TZNAME:GMT
DTSTART:20231029T010000
END:STANDARD
BEGIN:DAYLIGHT
TZOFFSETFROM:+0000
TZOFFSETTO:+0100
TZNAME:BST
DTSTART:20240331T010000
END:DAYLIGHT
BEGIN:STANDARD
TZOFFSETFROM:+0100
TZOFFSETTO:+0000
TZNAME:GMT
DTSTART:20241027T010000
END:STANDARD
END:VTIMEZONE
BEGIN:VEVENT
DTSTART;TZID=Europe/London:20231003T100000
DTEND;TZID=Europe/London:20231003T110000
DTSTAMP:20260420T183323
CREATED:20230917T200932Z
LAST-MODIFIED:20230917T222219Z
UID:24679-1696327200-1696330800@swhc.org.uk
SUMMARY:Pilates
DESCRIPTION:Pilates\nTuesdays 10-11am
URL:https://swhc.org.uk/event/pilates-3/
LOCATION:Southend & Westcliff Hebrew Congregation\, Finchley Road\, Westcliff-on-Sea\, Essex\, SS0 8AD\, United Kingdom
CATEGORIES:Community
END:VEVENT
BEGIN:VEVENT
DTSTART;TZID=Europe/London:20231003T193000
DTEND;TZID=Europe/London:20231003T193000
DTSTAMP:20260420T183323
CREATED:20230917T200932Z
LAST-MODIFIED:20230917T222407Z
UID:24680-1696361400-1696361400@swhc.org.uk
SUMMARY:Cheesy Tuesday
DESCRIPTION:Cheesy Tuesday in the Succah @ 7.30 pm\nAn evening of Wine & Cheese for those who are young at heart\,\nprofessionals and those working towards retirement.
URL:https://swhc.org.uk/event/cheesy-tuesday/
LOCATION:Southend & Westcliff Hebrew Congregation\, Finchley Road\, Westcliff-on-Sea\, Essex\, SS0 8AD\, United Kingdom
CATEGORIES:Community
ORGANIZER;CN="Chloe Baum-Walters":MAILTO:shuloffice@swhc.org.uk
END:VEVENT
END:VCALENDAR