BEGIN:VCALENDAR
VERSION:2.0
PRODID:-//Southend &amp; Westcliff Hebrew Congregation - ECPv6.15.20//NONSGML v1.0//EN
CALSCALE:GREGORIAN
METHOD:PUBLISH
X-ORIGINAL-URL:https://swhc.org.uk
X-WR-CALDESC:Events for Southend &amp; Westcliff Hebrew Congregation
REFRESH-INTERVAL;VALUE=DURATION:PT1H
X-Robots-Tag:noindex
X-PUBLISHED-TTL:PT1H
BEGIN:VTIMEZONE
TZID:Europe/London
BEGIN:DAYLIGHT
TZOFFSETFROM:+0000
TZOFFSETTO:+0100
TZNAME:BST
DTSTART:20220327T010000
END:DAYLIGHT
BEGIN:STANDARD
TZOFFSETFROM:+0100
TZOFFSETTO:+0000
TZNAME:GMT
DTSTART:20221030T010000
END:STANDARD
BEGIN:DAYLIGHT
TZOFFSETFROM:+0000
TZOFFSETTO:+0100
TZNAME:BST
DTSTART:20230326T010000
END:DAYLIGHT
BEGIN:STANDARD
TZOFFSETFROM:+0100
TZOFFSETTO:+0000
TZNAME:GMT
DTSTART:20231029T010000
END:STANDARD
BEGIN:DAYLIGHT
TZOFFSETFROM:+0000
TZOFFSETTO:+0100
TZNAME:BST
DTSTART:20240331T010000
END:DAYLIGHT
BEGIN:STANDARD
TZOFFSETFROM:+0100
TZOFFSETTO:+0000
TZNAME:GMT
DTSTART:20241027T010000
END:STANDARD
END:VTIMEZONE
BEGIN:VEVENT
DTSTART;TZID=Europe/London:20231007T093000
DTEND;TZID=Europe/London:20231007T093000
DTSTAMP:20260420T182449
CREATED:20230917T200933Z
LAST-MODIFIED:20230917T224112Z
UID:24684-1696671000-1696671000@swhc.org.uk
SUMMARY:Shemini Atzeret Cholent Kiddush Lunch
DESCRIPTION:Shemini Atzeret Cholent Kiddush Lunch\nafter the Service\nEverybody welcome
URL:https://swhc.org.uk/event/shemini-atzeret-cholent-kiddush-lunch/
CATEGORIES:Kiddush
END:VEVENT
BEGIN:VEVENT
DTSTART;TZID=Europe/London:20231007T190800
DTEND;TZID=Europe/London:20231007T190800
DTSTAMP:20260420T182449
CREATED:20230917T200933Z
LAST-MODIFIED:20230917T225625Z
UID:24686-1696705680-1696705680@swhc.org.uk
SUMMARY:Erev Simchat Torah
DESCRIPTION:Shabbat goes out 7.08 pm Simchat Torah begins\nCandles should not be lit before 7.08 pm\nMaariv Hakafot and Torah reading – with a running Kiddush\nSinging and Dancing with the Torah.
URL:https://swhc.org.uk/event/erev-simchat-torah/
LOCATION:Southend & Westcliff
CATEGORIES:Festival,Shabbat
END:VEVENT
END:VCALENDAR