BEGIN:VCALENDAR
VERSION:2.0
PRODID:-//Southend &amp; Westcliff Hebrew Congregation - ECPv6.15.20//NONSGML v1.0//EN
CALSCALE:GREGORIAN
METHOD:PUBLISH
X-WR-CALNAME:Southend &amp; Westcliff Hebrew Congregation
X-ORIGINAL-URL:https://swhc.org.uk
X-WR-CALDESC:Events for Southend &amp; Westcliff Hebrew Congregation
REFRESH-INTERVAL;VALUE=DURATION:PT1H
X-Robots-Tag:noindex
X-PUBLISHED-TTL:PT1H
BEGIN:VTIMEZONE
TZID:Europe/London
BEGIN:DAYLIGHT
TZOFFSETFROM:+0000
TZOFFSETTO:+0100
TZNAME:BST
DTSTART:20220327T010000
END:DAYLIGHT
BEGIN:STANDARD
TZOFFSETFROM:+0100
TZOFFSETTO:+0000
TZNAME:GMT
DTSTART:20221030T010000
END:STANDARD
BEGIN:DAYLIGHT
TZOFFSETFROM:+0000
TZOFFSETTO:+0100
TZNAME:BST
DTSTART:20230326T010000
END:DAYLIGHT
BEGIN:STANDARD
TZOFFSETFROM:+0100
TZOFFSETTO:+0000
TZNAME:GMT
DTSTART:20231029T010000
END:STANDARD
BEGIN:DAYLIGHT
TZOFFSETFROM:+0000
TZOFFSETTO:+0100
TZNAME:BST
DTSTART:20240331T010000
END:DAYLIGHT
BEGIN:STANDARD
TZOFFSETFROM:+0100
TZOFFSETTO:+0000
TZNAME:GMT
DTSTART:20241027T010000
END:STANDARD
END:VTIMEZONE
BEGIN:VEVENT
DTSTART;TZID=Europe/London:20231013T175400
DTEND;TZID=Europe/London:20231013T175400
DTSTAMP:20260420T182117
CREATED:20230917T200933Z
LAST-MODIFIED:20230917T230441Z
UID:24696-1697219640-1697219640@swhc.org.uk
SUMMARY:Candle Lighting / Shabbat Begins
DESCRIPTION:Candle Lighting and Shabbat Commences 5.54 pm\nSee Weekly leaflet for times Mincha & kabbala service begins
URL:https://swhc.org.uk/event/candle-lighting-shabbat-begins/
LOCATION:Southend & Westcliff
CATEGORIES:Shabbat
END:VEVENT
END:VCALENDAR