BEGIN:VCALENDAR
VERSION:2.0
PRODID:-//Southend &amp; Westcliff Hebrew Congregation - ECPv6.15.20//NONSGML v1.0//EN
CALSCALE:GREGORIAN
METHOD:PUBLISH
X-WR-CALNAME:Southend &amp; Westcliff Hebrew Congregation
X-ORIGINAL-URL:https://swhc.org.uk
X-WR-CALDESC:Events for Southend &amp; Westcliff Hebrew Congregation
REFRESH-INTERVAL;VALUE=DURATION:PT1H
X-Robots-Tag:noindex
X-PUBLISHED-TTL:PT1H
BEGIN:VTIMEZONE
TZID:Europe/London
BEGIN:DAYLIGHT
TZOFFSETFROM:+0000
TZOFFSETTO:+0100
TZNAME:BST
DTSTART:20220327T010000
END:DAYLIGHT
BEGIN:STANDARD
TZOFFSETFROM:+0100
TZOFFSETTO:+0000
TZNAME:GMT
DTSTART:20221030T010000
END:STANDARD
BEGIN:DAYLIGHT
TZOFFSETFROM:+0000
TZOFFSETTO:+0100
TZNAME:BST
DTSTART:20230326T010000
END:DAYLIGHT
BEGIN:STANDARD
TZOFFSETFROM:+0100
TZOFFSETTO:+0000
TZNAME:GMT
DTSTART:20231029T010000
END:STANDARD
BEGIN:DAYLIGHT
TZOFFSETFROM:+0000
TZOFFSETTO:+0100
TZNAME:BST
DTSTART:20240331T010000
END:DAYLIGHT
BEGIN:STANDARD
TZOFFSETFROM:+0100
TZOFFSETTO:+0000
TZNAME:GMT
DTSTART:20241027T010000
END:STANDARD
END:VTIMEZONE
BEGIN:VEVENT
DTSTART;TZID=Europe/London:20231017T100000
DTEND;TZID=Europe/London:20231017T110000
DTSTAMP:20260420T182807
CREATED:20230917T230909Z
LAST-MODIFIED:20230917T230909Z
UID:25169-1697536800-1697540400@swhc.org.uk
SUMMARY:Pilates
DESCRIPTION:Pilates\nTuesdays 10-11am
URL:https://swhc.org.uk/event/pilates-1710/
LOCATION:Southend & Westcliff Hebrew Congregation\, Finchley Road\, Westcliff-on-Sea\, Essex\, SS0 8AD\, United Kingdom
CATEGORIES:Community
END:VEVENT
BEGIN:VEVENT
DTSTART;TZID=Europe/London:20231017T140000
DTEND;TZID=Europe/London:20231017T160000
DTSTAMP:20260420T182807
CREATED:20230920T134825Z
LAST-MODIFIED:20231002T213523Z
UID:25232-1697551200-1697558400@swhc.org.uk
SUMMARY:Pop In
DESCRIPTION:The very popular Pop in \nStarts at 2.00 pm \nFinishes 4.00 pm \nContact Janice Steel for further information
URL:https://swhc.org.uk/event/pop-in/
LOCATION:Southend & Westcliff
ATTACH;FMTTYPE=image/jpeg:https://swhc.org.uk/wp-content/uploads/2023/10/Pop-In-October-2023-scaled.jpg
END:VEVENT
END:VCALENDAR