BEGIN:VCALENDAR
VERSION:2.0
PRODID:-//Southend &amp; Westcliff Hebrew Congregation - ECPv6.15.20//NONSGML v1.0//EN
CALSCALE:GREGORIAN
METHOD:PUBLISH
X-ORIGINAL-URL:https://swhc.org.uk
X-WR-CALDESC:Events for Southend &amp; Westcliff Hebrew Congregation
REFRESH-INTERVAL;VALUE=DURATION:PT1H
X-Robots-Tag:noindex
X-PUBLISHED-TTL:PT1H
BEGIN:VTIMEZONE
TZID:Europe/London
BEGIN:DAYLIGHT
TZOFFSETFROM:+0000
TZOFFSETTO:+0100
TZNAME:BST
DTSTART:20220327T010000
END:DAYLIGHT
BEGIN:STANDARD
TZOFFSETFROM:+0100
TZOFFSETTO:+0000
TZNAME:GMT
DTSTART:20221030T010000
END:STANDARD
BEGIN:DAYLIGHT
TZOFFSETFROM:+0000
TZOFFSETTO:+0100
TZNAME:BST
DTSTART:20230326T010000
END:DAYLIGHT
BEGIN:STANDARD
TZOFFSETFROM:+0100
TZOFFSETTO:+0000
TZNAME:GMT
DTSTART:20231029T010000
END:STANDARD
BEGIN:DAYLIGHT
TZOFFSETFROM:+0000
TZOFFSETTO:+0100
TZNAME:BST
DTSTART:20240331T010000
END:DAYLIGHT
BEGIN:STANDARD
TZOFFSETFROM:+0100
TZOFFSETTO:+0000
TZNAME:GMT
DTSTART:20241027T010000
END:STANDARD
END:VTIMEZONE
BEGIN:VEVENT
DTSTART;TZID=Europe/London:20231211T113000
DTEND;TZID=Europe/London:20231211T150000
DTSTAMP:20260422T112714
CREATED:20231029T140945Z
LAST-MODIFIED:20231029T140945Z
UID:25427-1702294200-1702306800@swhc.org.uk
SUMMARY:Shalom Friendship Club
DESCRIPTION:Shalom Friendship Club
URL:https://swhc.org.uk/event/shalom-friendship-club-105/
LOCATION:Southend & Westcliff
ORGANIZER;CN="Maurice Symons":MAILTO:Mauricesymons15@gmail.com
END:VEVENT
BEGIN:VEVENT
DTSTART;TZID=Europe/London:20231211T164200
DTEND;TZID=Europe/London:20231211T164200
DTSTAMP:20260422T112714
CREATED:20231029T151734Z
LAST-MODIFIED:20231030T152902Z
UID:25463-1702312920-1702312920@swhc.org.uk
SUMMARY:Chanukah Day 4 Menorah at the Cliffs 6.45pm
DESCRIPTION:light candles after nightfall \nMenorah at the Cliffs 6.45pm with hot Doughnuts
URL:https://swhc.org.uk/event/chanukah-day-4/
END:VEVENT
END:VCALENDAR