BEGIN:VCALENDAR
VERSION:2.0
PRODID:-//Southend &amp; Westcliff Hebrew Congregation - ECPv6.15.20//NONSGML v1.0//EN
CALSCALE:GREGORIAN
METHOD:PUBLISH
X-ORIGINAL-URL:https://swhc.org.uk
X-WR-CALDESC:Events for Southend &amp; Westcliff Hebrew Congregation
REFRESH-INTERVAL;VALUE=DURATION:PT1H
X-Robots-Tag:noindex
X-PUBLISHED-TTL:PT1H
BEGIN:VTIMEZONE
TZID:Europe/London
BEGIN:DAYLIGHT
TZOFFSETFROM:+0000
TZOFFSETTO:+0100
TZNAME:BST
DTSTART:20230326T010000
END:DAYLIGHT
BEGIN:STANDARD
TZOFFSETFROM:+0100
TZOFFSETTO:+0000
TZNAME:GMT
DTSTART:20231029T010000
END:STANDARD
BEGIN:DAYLIGHT
TZOFFSETFROM:+0000
TZOFFSETTO:+0100
TZNAME:BST
DTSTART:20240331T010000
END:DAYLIGHT
BEGIN:STANDARD
TZOFFSETFROM:+0100
TZOFFSETTO:+0000
TZNAME:GMT
DTSTART:20241027T010000
END:STANDARD
BEGIN:DAYLIGHT
TZOFFSETFROM:+0000
TZOFFSETTO:+0100
TZNAME:BST
DTSTART:20250330T010000
END:DAYLIGHT
BEGIN:STANDARD
TZOFFSETFROM:+0100
TZOFFSETTO:+0000
TZNAME:GMT
DTSTART:20251026T010000
END:STANDARD
END:VTIMEZONE
BEGIN:VEVENT
DTSTART;TZID=Europe/London:20240722T103000
DTEND;TZID=Europe/London:20240722T120000
DTSTAMP:20260421T111918
CREATED:20240710T212843Z
LAST-MODIFIED:20240712T182232Z
UID:25734-1721644200-1721649600@swhc.org.uk
SUMMARY:Why you can't believe everything you read - Q&A with David Collier
DESCRIPTION:We look forward to welcoming DAVID COLLIER\, an investigative journalist who calls out ANTI-ZIONISM & ANTI-SEMITISM in the media. \nANTISEMITISM\, ANTI-ZIONISM and the PRO-PALESTINIAN RHETORIC have become of serious concern to British Jewry. David challenges the bias of the BBC and the untruths and hostility that prevail in many other media outlets and across social media. \nEveryone is welcome to hear David talk about his fantastic work and to participate in a question & answer session with him that will follow. \nFor more information\, take a look at David’s website/blog david-collier.com\, his Facebook page: facebook.com/Beyond-the-Great-Divide and his YouTubechannel : www.youtube.com/@davebt \nLet’s have some really good questions from you for David to answer. Please RSVP and email your questions to the Shul Office before 17 July. \nYour donation on arrival towards our ongoing fundraising for Israel is really appreciated. Please donate as generously as you can at this time of crisis in Israel. There will also be a raffle during the coffee morning too.
URL:https://swhc.org.uk/event/why-you-cant-believe-everything-you-read-qa-with-david-collier/
LOCATION:Southend & Westcliff
END:VEVENT
END:VCALENDAR